Workbook
Name Print_Area_MI: #REF!

Sheet Construction Budget
B2: Please note this workbook has two tabs, the first tab is for the construction budget, the second tab is for income and expense estimates.
B3: All cells with a white background can be typed in. Feel free to add if needed.
B9: RENTAL HOUSING DEVELOPMENT BUDGET | H9: white space indicates data entry
B10: PROJECT NAME:
B12: ITEM | C12: COST | D12: Notes | E12: Depreciable | F12: Amortize | G12: Non-Depr. | H12: Historic RTC | I12: LIHTC 4% | J12: LIHTC 9%
B14: LAND or EXISTING BUILDING (Estimates)
B15: Land / Building Cost | C15: 0 | D15: If purchasing land or an existing building (existing building purchases are relevant for rehabilitation scenarios but generally not new construction), please list the cost to acquire the land and/or existing building. If the site to be constructed on or building to be rehabilitated is already owned, please leave blank. | G15: =C15 -> 0
B16: Land / Building Value | D16: Estimated value of land or existing building as-is. This is important as the difference between land or building value and indebtedness (if any) can be treated as equity.
B17: Land / Building Debt | D17: If applicable, current amount of existing debt on the land or existing building that we should factor in as a payoff. If pledging "free and clear" (no debt), leave blank.
B19: SITE IMPROVEMENTS / SITE WORK (Estimates)
B20: Demolition | C20: 0 | D20: If applicable, such as razing a building on site so the land is cleared for development. | E20: =C20 -> 0 | H20: =C20 -> 0 | I20: =C20 -> 0 | J20: =C20 -> 0
B21: On-Site Imp. | C21: 0 | D21: Site work such as foundations, grading, etc. | E21: =C21 -> 0 | I21: =C21 -> 0 | J21: =C21 -> 0
B22: Off-Site Imp. | C22: 0 | D22: Work more than ~100 feet outside the boundaries of the site. | G22: =C22 -> 0
B23: SUB-TOTAL | C23: =SUM(C20:C22) -> 0
B25: CONSTRUCTION (Estimates)
B26: Hard Costs | C26: 0 | D26: Estimated total cost of the residential building(s) that tenants will live in. | E26: =C26 -> 0 | H26: =C26 -> 0 | I26: =C26 -> 0 | J26: =C26 -> 0
B27: Amenities / Accessory Buildings | C27: 0 | D27: Gazebo, pool, etc. As applicable. | E27: =C27 -> 0 | I27: =C27 -> 0 | J27: =C27 -> 0
B28: Commercial Space | C28: 0 | D28: As applicable.
B29: Impact Fees | C29: 0 | E29: =C29 -> 0 | H29: =C29 -> 0 | I29: =C29 -> 0 | J29: =C29 -> 0
B30: Permits | C30: 0 | E30: =C30 -> 0 | H30: =C30 -> 0 | I30: =C30 -> 0 | J30: =C30 -> 0
B31: Furnishings | C31: 0 | D31: Only common area furnishings are eligible. Tenant unit furnishings are not eligble. | E31: =C31 -> 0 | I31: =C31 -> 0 | J31: =C31 -> 0
B32: Taxes | C32: 0 | D32: Taxes due during construction. | E32: =C32 -> 0 | H32: =C32 -> 0 | I32: =C32 -> 0 | J32: =C32 -> 0
B33: Builder's Risk Insurance | C33: 0 | D33: Paid by either owner or general contractor. | E33: =C33 -> 0 | H33: =C33 -> 0 | I33: =C33 -> 0 | J33: =C33 -> 0
B34: Bond Premium | C34: 0 | D34: General contractors involved with HUD 221(d)(4) projects must be bondable. | E34: =C34 -> 0 | H34: =C34 -> 0 | I34: =C34 -> 0 | J34: =C34 -> 0
B35: General Requirements | C35: 0 | D35: Job site costs (fencing, trailer, portapotty, etc). | E35: =C35 -> 0 | H35: =C35 -> 0 | I35: =C35 -> 0 | J35: =C35 -> 0
B36: Builder's Profit | C36: 0 | E36: =C36 -> 0 | H36: =C36 -> 0 | I36: =C36 -> 0 | J36: =C36 -> 0
B37: Builder's Overhead | C37: 0 | D37: General contractor's payroll and fixed overhead. | E37: =C37 -> 0 | H37: =C37 -> 0 | I37: =C37 -> 0 | J37: =C37 -> 0
B38: Other
B39: SUB-TOTAL | C39: =SUM(C26:C38) -> 0
B41: PROFESSIONAL FEES (Estimates)
B42: Bedford Lending will calculate lender paid third party report estimates automatically as part of our analysis.
B43: Survey | C43: 0 | E43: =C43 -> 0 | H43: =C43 -> 0 | I43: =C43 -> 0 | J43: =C43 -> 0
B44: Architect Fees | C44: 0 | E44: =C44 -> 0 | H44: =C44 -> 0 | I44: =C44 -> 0 | J44: =C44 -> 0
B45: Engineering Fees | C45: 0
B46: Legal | C46: 0 | E46: =C46 -> 0 | H46: =C46 -> 0 | I46: =C46 -> 0 | J46: =C46 -> 0
B47: Consultant | C47: 0 | E47: =C47 -> 0 | H47: =C47 -> 0 | I47: =C47 -> 0 | J47: =C47 -> 0
B48: Environmental Remediation (If Necessary) | C48: 0 | G48: =C48 -> 0
B49: Title and Recording | C49: 0 | E49: =C49 -> 0 | H49: =C49 -> 0 | I49: =C49 -> 0 | J49: =C49 -> 0
B50: Other | C50: 0 | E50: =C50 -> 0 | H50: =C50 -> 0 | I50: =C50 -> 0 | J50: =C50 -> 0
B51: Other | C51: 0 | E51: 0 | H51: =C51 -> 0 | I51: =C51 -> 0 | J51: =C51 -> 0
...

Sheet Rents and Expenses
B2: PRO FORMA | K2: white space indicates data entry
B3: RENT AND EXPENSE ASSUMPTIONS
B5: RESIDENTIAL RENTS | J5: RESIDENTIAL
B6: Unit Type (One Bedroom, etc.) | C6: Square Feet (Per Unit) | D6: # Units | E6: Mo. Rent | F6: Ann. Rent | J6: ASSUMPTIONS | L6: Percent
B7: Studio | C7: 500 | D7: 10 | E7: 1000 | F7: =D7*E7*12 -> 120000 | J7: Rent Inc./Year | L7: 0
B8: 1 BR | C8: 600 | D8: 10 | E8: 1100 | F8: =D8*E8*12 -> 132000 | J8: Op Cost Inc./Year | L8: 0
B9: 2 BR | C9: 700 | D9: 10 | E9: 1200 | F9: =D9*E9*12 -> 144000 | J9: Reserves Inc./Year | L9: 0
B10: 3 BR | C10: 800 | D10: 10 | E10: 1300 | F10: =D10*E10*12 -> 156000 | J10: Vac. Year 1 | L10: 0
B11: 4 BR | C11: 900 | D11: 10 | E11: 1400 | F11: =D11*E11*12 -> 168000 | J11: Vac. Year 2 | L11: 0
D12: 0 | E12: 0 | F12: =D12*E12*12 -> 0 | J12: Vac. Year 3 & Future | L12: 0
D13: 0 | E13: 0 | F13: =D13*E13*12 -> 0
D14: 0 | E14: 0 | F14: =D14*E14*12 -> 0
D15: 0 | E15: 0 | F15: =D15*E15*12 -> 0
D16: 0 | E16: 0 | F16: =D16*E16*12 -> 0
D17: 0 | E17: 0 | F17: =D17*E17*12 -> 0
B18: SUB-TOTAL | D18: =SUM(D7:D17) -> 50 | F18: =SUM(F7:F17) -> 720000
B20: OTHER INCOME
B21: Pet Fees, Laundry, RUBS, etc. | E21: Mo. Rent | F21: Ann. Rent
B22: Pet Fees | E22: 250 | F22: =E22*12 -> 3000
E23: 0 | F23: =E23*12 -> 0
E24: 0 | F24: =E24*12 -> 0
B25: SUB-TOTAL | F25: =SUM(F22:F24) -> 3000
B27: COMMERCIAL INCOME
B28: Coffee Shop, Restaurant, etc. | E28: Mo. Rent | F28: Ann. Rent | J28: COMMERCIAL
B29: Coffee Shop | E29: 1750 | F29: =E29*12 -> 21000 | J29: ASSUMPTIONS | L29: Percent
E30: 0 | F30: =E30*12 -> 0 | J30: Rent Inc./Year | L30: 0
E31: 0 | F31: =E31*12 -> 0 | J31: Op. Cost Inc./Year | L31: 0
B32: SUB-TOTAL | F32: =SUM(F29:F31) -> 21000 | J32: Reserves Inc./Year | L32: 0
E33: Leaseable SF | F33: $/SF/Year | J33: Vac. Year 1 | L33: 0
B34: Tenant Contributions | E34: 0 | F34: 0 | J34: Vac. Year 2 | L34: 0
B35: Tenant Contributions | E35: 0 | F35: 0 | J35: Vac. Year 3 & Future | L35: 0
B36: Tenant Contributions | E36: 0 | F36: 0 | J36: Other Income Increase | L36: 0.03
B37: TOTAL TENANT CONTRIBUTIONS | E37: =SUM(E34:E36) -> 0 | J37: Weighted Op. Exp. | L37: =('Sources of Funds'!E4*L31)+(1-'Sources of Funds'!E4)*'Rents and Expenses'!L8 -> 0
B39: SUMMATION | F39: Ann. Rent
B40: Residential Income | F40: =F18 -> 720000
B41: Other Income | F41: =F25 -> 3000
B42: Tenant Contributions | F42: =E42*12 -> 0
B43: Commercial Income | F43: =F32 -> 21000
B44: TOTAL INCOME (Annual) | F44: =SUM(F40:F43) -> 744000
B47: OPERATING EXPENSES | E47: TOTAL | F47: Per Unit
...

Sheet Sources of Funds
B1: SOURCES OF FUNDS | E1: ='Construction Budget'!C10 -> 0 | J1: white space indicates data entry
B3: PROJECT ASSUMPTIONS | G3: HISTORIC REHAB. ASSUMPTIONS
B4: % Commercial | E4: 0 | G4: Historic Rehabilitation 1=yes, 0=no | J4: 1
B5: Anticipated Year of Sale | E5: 0 | G5: Historic RTC Equity Rate | J5: 0.92
B6: Cap Rate at Sale | E6: 0.1
B7: Cost of Sale | E7: 0
B8: Tax Rate at Sale | E8: 0.35
B10: LIHTC ASSUMPTIONS
B11: Project Type (1=acq/rehab, 2=bond, 3=new constr.) | E11: 3 | G11: LIHTC 4% Rate | J11: 0.0356
B12: LIHTC Occupancy Percentage | E12: 0 | G12: LIHTC 9% Rate | J12: 0.0815
B13: Bldg. Acquisition Eligible 1=yes, 0=no | E13: 0 | G13: LIHTC Bonus Area | I13: 1=yes, 0=no | J13: 0
B15: INVESTMENT ASSUMPTIONS
B16: Investor Tax Rate | E16: 0
B17: Investor Ownership | E17: 0.9999
B18: Basis for Equity (1=Sale Rate, 2=IRR, 3=$Amt.) | E18: 1 | G18: EQUITY ATTRACTED
B19: 1. LIHTC Sale Rate | E19: 0 | G19: Equity Attracted Based on Sale Rate | J19: ='Tax & Appreciation Benefits'!C26+'Tax & Appreciation Benefits'!C36 -> #REF!
B20: 2. Expected Internal Rate of Return (IRR) | E20: 0 | G20: Equity Attracted Based on IRR | J20: ='Rents and Expenses'!E145 -> 0
B21: 3. Equity Investment Committed | E21: 0 | G21: Equity Attracted Based on Dollar Amount | J21: =E21 -> 0
B24: DEBT ATTRACTION CALCULATION | E24: Requirements | G24: Loan Amt.
B25: Debt Coverage Ratio | E25: 0 | G25: =IF(E25=0,0,-PV(D38/12,E38*12,E28/12/E25,0,0)) -> 0
B26: Loan to Value Ratio | E26: 0 | G26: =E26*E29 -> 0
B27: Capitalization Rate | E27: 0
B28: Stabilized NOI | E28: =('Rents and Expenses'!E70+'Rents and Expenses'!E71)*(1-'Rents and Expenses'!L12)+'Rents and Expenses'!E77*(1-'Rents and Expenses'!L35)-'Rents and Expenses'!E92-'Rents and Expenses'!E93-'Rents and Expenses'!E94 -> #REF!
B29: Fair Market Value | E29: =IF(E27=0,0,E28/E27) -> 0
B30: Loan Amount, 1=$Amt., 2=DCR, 3=DCR and LVR | E30: 1
B31: Bank Loan Committed | E31: 0
B32: Loan Amount Based on DCR | E32: =G25 -> 0
B33: Loan Amount Based on DCR and LVR | E33: =MIN(G25,G26) -> 0
B36: PROPOSED PERMANENT FINANCING
C37: Amount | D37: Rate | E37: Amortization | F37: Term | G37: Pymts. Begin | I37: Source
B38: BANK | C38: =INDEX(E31:E33,E30,1) -> 0 | D38: 0 | E38: 0 | F38: 30
B39: Amortizing Loan | C39: 0 | D39: 0 | E39: 0 | F39: 0
B40: Amortizing Loan | C40: 0 | D40: 0 | E40: 0 | F40: 0
B41: Interest Only Loan | C41: 0 | D41: 0 | F41: 0 | G41: 0
B42: Interest Only Loan | C42: 0 | D42: 0 | F42: 0 | G42: 0
B43: Deferred Loan | C43: 0 | D43: 0 | E43: 0 | F43: 0 | G43: 1
B44: Deferred Loan | C44: 0 | D44: 0 | E44: 0 | F44: 0 | G44: 1
B45: Developer Loan | C45: 0 | D45: 0 | E45: 0 | F45: 0 | G45: 1
B46: Cash Flow Loan | C46: 0 | D46: 0 | E46: 0 | F46: 0 | G46: 0.4 | H46: % of CF
B47: TOTAL LOANS | C47: =SUM(C38:C46) -> 0
...

Sheet Tax & Appreciation Benefits
B1: TAX & APPRECIATION BENEFITS | F1: white space indicates data entry
C2: ='Construction Budget'!C10 -> 0
C4: Acquisition | D4: Tax Exempt | E4: Rehab./New
B5: LIHTC | C5: and Rehab. | D5: Bond | E5: No Acq.
B6: Rehab./New Construction | C6: ='Construction Budget'!#REF!-'Construction Budget'!#REF! -> #REF! | D6: ='Construction Budget'!#REF!-'Construction Budget'!#REF! -> #REF! | E6: ='Construction Budget'!#REF! -> #REF!
B7: - % Commercial | C7: =C6*'Sources of Funds'!$E$4 -> #REF! | D7: =D6*'Sources of Funds'!$E$4 -> #REF! | E7: =E6*'Sources of Funds'!$E$4 -> #REF!
B8: - RTC (Housing only) | C8: =IF('Sources of Funds'!J4=1,C33*(1-'Sources of Funds'!E4),0) -> #REF! | D8: =IF('Sources of Funds'!J4=1,C33*(1-'Sources of Funds'!E4),0) -> #REF! | E8: =IF('Sources of Funds'!J4=1,C33*(1-'Sources of Funds'!E4),0) -> #REF!
B9: - Grants | C9: ='Sources of Funds'!C49 -> 0 | D9: ='Sources of Funds'!C49 -> 0 | E9: ='Sources of Funds'!C49 -> 0
B10: = Rehab/Const. Basis | C10: =C6-C7-C8-C9 -> #REF! | D10: =D6-D7-D8-D9 -> #REF! | E10: =E6-E7-E8-E9 -> #REF!
B11: x Credit Rate | C11: ='Sources of Funds'!$J$12 -> 0.0815 | D11: ='Sources of Funds'!J11 -> 0.0356 | E11: ='Sources of Funds'!$J$12 -> 0.0815
B12: x Bonus Area | C12: =IF('Sources of Funds'!$J$13=1,1.3,1) -> 1 | D12: =IF('Sources of Funds'!$J$13=1,1.3,1) -> 1 | E12: =IF('Sources of Funds'!$J$13=1,1.3,1) -> 1
B13: = Annual Rehab/Const Credit | C13: =C10*C11*C12 -> #REF! | D13: =D10*D11*D12 -> #REF! | E13: =E10*E11*E12 -> #REF!
B14: Acquisition | C14: ='Construction Budget'!#REF! -> #REF! | D14: =IF('Sources of Funds'!E13=1,'Construction Budget'!#REF!,0) -> 0
B15: x Credit Rate | C15: ='Sources of Funds'!J11 -> 0.0356 | D15: ='Sources of Funds'!J11 -> 0.0356
B16: = Annual Acq. Credit | C16: =C14*C15 -> #REF! | D16: =D14*D15 -> 0
B17: Annual Credit | C17: =C16+C13 -> #REF! | D17: =D16+D13 -> #REF! | E17: =E13 -> #REF!
B18: x % Low Income | C18: ='Sources of Funds'!E12 -> 0 | D18: ='Sources of Funds'!E12 -> 0 | E18: ='Sources of Funds'!E12 -> 0
B19: Amount of Credit/Year | C19: =C17*C18 -> #REF! | D19: =D17*D18 -> #REF! | E19: =E17*E18 -> #REF!
B21: Annual LIHTC | C21: =INDEX(C19:E19,'Sources of Funds'!E11) -> #REF!
B22: 10 Year LIH Tax Credit | C22: =C21*10 -> #REF!
B23: Equity | C23: =C22*'Sources of Funds'!$E$19 -> #REF!
B24: x % Ownership | C24: ='Sources of Funds'!$E$17 -> 0.9999
B25: Partnership Equity | C25: =C23*C24 -> #REF!
B26: TOTAL EQUITY LIHTC | C26: =C25+D26+E26 -> #REF!
B28: CALCULATION OF HISTORIC TAX CREDIT
B29: Eligible Costs | C29: =IF('Sources of Funds'!J4=1,'Construction Budget'!#REF!,0) -> #REF!
B30: - Non RTC Basis Items | C30: 0
B31: Historic Basis | C31: =C29-C30 -> #REF!
B32: Historic Rate | C32: 0.2
B33: Historic Tax Credit | C33: =C31*C32 -> #REF!
B34: x % Ownership | C34: ='Sources of Funds'!E17 -> 0.9999
B35: Historic RTC Equity Rate | C35: ='Sources of Funds'!J5 -> 0.92
B36: Equity Raised by RTC | C36: =C35*C33*C34 -> #REF!
B38: DEPRECIABLE BASIS
B39: Depreciable Expenses | C39: ='Construction Budget'!#REF! -> #REF!
B40: - Amount of Historic RTC | C40: =C33 -> #REF!
B41: Adjusted Depreciable Basis | C41: =C39-C40-'Construction Budget'!C31-'Construction Budget'!C32 -> #REF!
B42: Commercial Basis (39 yrs) | C42: =IF('Rents and Expenses'!E81=0,0,(IF('Rents and Expenses'!E77/'Rents and Expenses'!E81>0.2,C41,0))) -> 0
B43: Residential Basis (27.5yrs) | C43: =IF('Rents and Expenses'!E81=0,0,IF('Rents and Expenses'!E77/'Rents and Expenses'!E81<0.2,C41,0)) -> #REF!
B44: Other Depreciable | C44: =('Construction Budget'!C32+'Construction Budget'!C31) -> 0
...
